BEGIN:VCALENDAR
VERSION:2.0
PRODID:icalendar-ruby
CALSCALE:GREGORIAN
METHOD:PUBLISH
BEGIN:VEVENT
DTSTAMP:20260421T020426Z
UID:5-674181@kingswaycommunity.tithelysetup5.com
DTSTART:20260822T233000Z
DTEND:20260823T010000Z
CLASS:PUBLIC
CREATED:20260421T093318
DESCRIPTION:Join us at 9:30am each Sunday*! Our address is 9 Resolution Dri
 ve\, North Caringbah. \n*We have no Sunday service following the last Sat
 urday of every month. On the last Saturday of every month\, we have a Satu
 rday Night service from 5:15pm.\nFor more info\, check out our Service Tim
 es page
LAST-MODIFIED:20260421T093318
LOCATION:9 Resolution Drive\, North Caringbah
SUMMARY:Sunday Service
URL;VALUE=URI:https://kingswaycommunity.tithelysetup5.com/events/sunday-ser
 vice/2026-08-23
ATTACH;FILENAME=Communion_Website.jpg;FMTTYPE=image/jpeg:https://dq5pwpg1q8
 ru0.cloudfront.net/2025/03/27/00/00/17/5d504a34-bc86-45a8-8fae-99e45369d17
 6/Communion_Website.jpg
END:VEVENT
END:VCALENDAR
