BEGIN:VCALENDAR
VERSION:2.0
PRODID:icalendar-ruby
CALSCALE:GREGORIAN
METHOD:PUBLISH
BEGIN:VEVENT
DTSTAMP:20260423T200806Z
UID:7-675279@kingswaycommunity.tithelysetup5.com
DTSTART:20261030T070000Z
DTEND:20261030T093000Z
CLASS:PUBLIC
CREATED:20260424T052909
DESCRIPTION:
LAST-MODIFIED:20260424T052909
LOCATION:9 Resolution Drive\, North Caringbah
SUMMARY:180 Youth
URL;VALUE=URI:https://kingswaycommunity.tithelysetup5.com/events/180-youth/
 2026-10-30
ATTACH;FILENAME=180Youth copy.jpg;FMTTYPE=image/jpeg:https://dq5pwpg1q8ru0.
 cloudfront.net/2020/09/29/17/36/15/3b9137a1-538d-4bd9-ab2a-e22e8633a982/18
 0Youth%20copy.jpg
END:VEVENT
END:VCALENDAR
